BEGIN:VCALENDAR
X-WR-TIMEZONE:Europe/Berlin
X-WR-CALNAME:rbb-Kalender
VERSION:2.0
METHOD:PUBLISH
CALSCALE:GREGORIAN
PRODID:rbb-CMS DAY
BEGIN:VEVENT
CLASS:PUBLIC
URL:http://www.rbb-online.de/content/rbb/rbb/zibb/archiv/20140306_1830/oekotourismus-im-trend.html
DTEND:20140306T192500
DTSTART:20140306T183000
UID:/content/rbb/rbb/zibb/archiv/20140306_1830/oekotourismus-im-trend
DTSTAMP:20140407T002139
DESCRIPTION:Abenteuer- und Erlebnisreisen werden immer beliebter, was sich auch auf der Internationalen Reisemesse ITB in Berlin zeigt. zibb zeigt, was die Reiseunternehmen in Sachen Öko zu bieten haben.\n\n\n
SUMMARY:Ökotourismus im Trend
END:VEVENT
END:VCALENDAR
