BEGIN:VCALENDAR
X-WR-TIMEZONE:Europe/Berlin
X-WR-CALNAME:rbb-Kalender
VERSION:2.0
METHOD:PUBLISH
CALSCALE:GREGORIAN
PRODID:rbb-CMS DAY
BEGIN:VEVENT
CLASS:PUBLIC
URL:http://www.rbb-online.de/content/rbb/rbb/zibb/archiv/20140307_1830/Fruehjahrsputz.html
DTEND:20140307T192500
DTSTART:20140307T183000
UID:/content/rbb/rbb/zibb/archiv/20140307_1830/Fruehjahrsputz
DTSTAMP:20140406T220914
DESCRIPTION:An diesem Wochenende nähern sich die Temperaturen der 20-Grad-Marke. Alle geraten dabei in Frühlingslaune. Die Winterklamotten werden weggepackt, die Fahrräder werden aus dem Keller geholt und Frühjahrsputz steht vor der Tür.\n\n\n
SUMMARY:Frühjahrsputz 
END:VEVENT
END:VCALENDAR
