BEGIN:VCALENDAR
X-WR-TIMEZONE:Europe/Berlin
X-WR-CALNAME:rbb-Kalender
VERSION:2.0
METHOD:PUBLISH
CALSCALE:GREGORIAN
PRODID:rbb-CMS DAY
BEGIN:VEVENT
CLASS:PUBLIC
URL:http://www.rbb-online.de/content/rbb/rbb/zibb/archiv/20140307_1830/ITB.html
DTEND:20140307T192500
DTSTART:20140307T183000
UID:/content/rbb/rbb/zibb/archiv/20140307_1830/ITB
DTSTAMP:20140406T221013
DESCRIPTION:Die ITB ist nicht nur eine der größten Messen des Jahres, sondern auch für die Besucher sehr spannend. Beinahe jeder Stand hat sich etwas einfallen lassen, um sein Reiseziel möglichst schmackhaft zu machen.\n
SUMMARY:Die Besuchermagneten auf der ITB
END:VEVENT
END:VCALENDAR
