BEGIN:VCALENDAR
X-WR-TIMEZONE:Europe/Berlin
X-WR-CALNAME:rbb-Kalender
VERSION:2.0
METHOD:PUBLISH
CALSCALE:GREGORIAN
PRODID:rbb-CMS DAY
BEGIN:VEVENT
CLASS:PUBLIC
URL:http://www.rbb-online.de/content/rbb/rbb/zibb/archiv/20140307_1830/dit-war-dit.html
DTEND:20140307T192500
DTSTART:20140307T183000
UID:/content/rbb/rbb/zibb/archiv/20140307_1830/dit-war-dit
DTSTAMP:20140406T220936
DESCRIPTION:Wie die Zeit vergeht. Eben war noch Dezember, schon ist wieder März. Eben war noch Weihnachten, schon ist fast wieder Ostern. Eben war noch Montag, schon ist wieder Freitag, schon wieder Wochenende, hurra! Die Zeit verging diese Woche aber mal wieder wie im Flug. Das zeigt auch unser satirischer Wochenrückblick.\n
SUMMARY:Dit war dit
END:VEVENT
END:VCALENDAR
