BEGIN:VCALENDAR
X-WR-TIMEZONE:Europe/Berlin
X-WR-CALNAME:rbb-Kalender
VERSION:2.0
METHOD:PUBLISH
CALSCALE:GREGORIAN
PRODID:rbb-CMS DAY
BEGIN:VEVENT
CLASS:PUBLIC
URL:http://www.rbb-online.de/content/rbb/rbb/zibb/archiv/20140307_1830/eichhoernchenseil.html
DTEND:20140307T192500
DTSTART:20140307T183000
UID:/content/rbb/rbb/zibb/archiv/20140307_1830/eichhoernchenseil
DTSTAMP:20140406T221036
DESCRIPTION:Sie sind klein, putzig und werden in Berlin immer seltener. Viele Eichhörnchen finden den Tod, weil sie von Autos überfahren werden. Tierschützer möchten am Müggelseedamm in Köpenick Abhilfe schaffen: mit dem ersten Eichhörnchenseil der Hauptstadt, das in acht Meter Höhe zwischen Bäumen gespannt wird.\n
SUMMARY:Ein Rettungsseil für Eichhörnchen 
END:VEVENT
END:VCALENDAR
