BEGIN:VCALENDAR
X-WR-TIMEZONE:Europe/Berlin
X-WR-CALNAME:rbb-Kalender
VERSION:2.0
METHOD:PUBLISH
CALSCALE:GREGORIAN
PRODID:rbb-CMS DAY
BEGIN:VEVENT
CLASS:PUBLIC
URL:http://www.rbb-online.de/content/rbb/rbb/zibb/archiv/20140307_1830/schwertkaempfer.html
DTEND:20140307T192500
DTSTART:20140307T183000
UID:/content/rbb/rbb/zibb/archiv/20140307_1830/schwertkaempfer
DTSTAMP:20140406T220921
DESCRIPTION:Alljährlich treffen sich in Bernau Schwertkämpfer aus ganz Europa, um zu zeigen, dass Schwert nicht gleich Schwert - und Schwertkampf nicht gleich Schwertkampf ist! In diesem Jahr sind 153 Kämpfer in 15 Stilrichtungen vertreten, zum Beispiel als Spazierstockfechter.\n
SUMMARY:Schwertkämpfertreffen in Bernau
END:VEVENT
END:VCALENDAR
