BEGIN:VCALENDAR
X-WR-TIMEZONE:Europe/Berlin
X-WR-CALNAME:rbb-Kalender
VERSION:2.0
METHOD:PUBLISH
CALSCALE:GREGORIAN
PRODID:rbb-CMS DAY
BEGIN:VEVENT
CLASS:PUBLIC
URL:http://www.rbb-online.de/content/rbb/rbb/zibb/archiv/20140310_1830/jagd.html
DTEND:20140310T192500
DTSTART:20140310T183000
UID:/content/rbb/rbb/zibb/archiv/20140310_1830/jagd
DTSTAMP:20140406T214840
DESCRIPTION:Etwa 300.000 Jäger gibt es in Deutschland. Und die braucht es auch, denn der Wildbestand in deutschen Wäldern will kontrolliert sein. Zibb hat einen erfahrenen Jäger getroffen und sich mit iihm auf die Pirsch begeben und über den Jägernachwuchs gesprochen.\n
SUMMARY:Jäger in Not
END:VEVENT
END:VCALENDAR
