BEGIN:VCALENDAR
X-WR-TIMEZONE:Europe/Berlin
X-WR-CALNAME:rbb-Kalender
VERSION:2.0
METHOD:PUBLISH
CALSCALE:GREGORIAN
PRODID:rbb-CMS DAY
BEGIN:VEVENT
CLASS:PUBLIC
URL:http://www.rbb-online.de/content/rbb/rbb/zibb/archiv/20140310_1830/raub.html
DTEND:20140310T192500
DTSTART:20140310T183000
UID:/content/rbb/rbb/zibb/archiv/20140310_1830/raub
DTSTAMP:20140406T214859
DESCRIPTION:Hans S. ist Jazz-Musiker und lebt unweit des ICC in einer Parterrewohnung. Es klingelt an seiner Tür, er öffnet nicht. Nach einem zweiten Klingeln wird er plötzlich von zwei Unbekannten überwältigt, mit einem Gitarrenkabel gefesselt und ins WC eingesperrt.\n
SUMMARY:Raub am helllichten Tag 
END:VEVENT
END:VCALENDAR
