BEGIN:VCALENDAR
X-WR-TIMEZONE:Europe/Berlin
X-WR-CALNAME:rbb-Kalender
VERSION:2.0
METHOD:PUBLISH
CALSCALE:GREGORIAN
PRODID:rbb-CMS DAY
BEGIN:VEVENT
CLASS:PUBLIC
URL:http://www.rbb-online.de/content/rbb/rbb/zibb/archiv/20140310_1830/reime.html
DTEND:20140310T192500
DTSTART:20140310T183000
UID:/content/rbb/rbb/zibb/archiv/20140310_1830/reime
DTSTAMP:20140406T214834
DESCRIPTION:Theo ist Reimesprecher. Diese Art der Unterhaltungsform gab es schon im Mittelalter. Heute ist sie fast verloren gegangen. Nu rettet Theo diese alte Kultur für uns. Der Berliner hat schon als Kind gereimt und sein Talent für spontane Verse ausgebaut. Wir haben ihn einen Abend lang begleitet.\n
SUMMARY:Reimesprecher Theo
END:VEVENT
END:VCALENDAR
