BEGIN:VCALENDAR
X-WR-TIMEZONE:Europe/Berlin
X-WR-CALNAME:rbb-Kalender
VERSION:2.0
METHOD:PUBLISH
CALSCALE:GREGORIAN
PRODID:rbb-CMS DAY
BEGIN:VEVENT
CLASS:PUBLIC
URL:http://www.rbb-online.de/content/rbb/rbb/zibb/archiv/20140311_1830/hackeundspitze.html
DTEND:20140311T192500
DTSTART:20140311T183000
UID:/content/rbb/rbb/zibb/archiv/20140311_1830/hackeundspitze
DTSTAMP:20140406T214156
DESCRIPTION:Seit vier Jahren verkaufen Daniela Wasseveld und Jutta Peixoto Cordeiro in ihrem Kreuzberger Laden "Hacke & Spitze" Schuhe für Ballerinas und Tänzer. Doch was macht einen Tangoschuh eigentlich aus oder einen Spitzenschuh fürs Ballett? zibb war vor Ort.\n\n\n
SUMMARY:Hacke und Spitze – Schuhe für Tänzer	
END:VEVENT
END:VCALENDAR
