BEGIN:VCALENDAR
X-WR-TIMEZONE:Europe/Berlin
X-WR-CALNAME:rbb-Kalender
VERSION:2.0
METHOD:PUBLISH
CALSCALE:GREGORIAN
PRODID:rbb-CMS DAY
BEGIN:VEVENT
CLASS:PUBLIC
URL:http://www.rbb-online.de/content/rbb/rbb/zibb/archiv/20140312_1830/narren.html
DTEND:20140312T192500
DTSTART:20140312T183000
UID:/content/rbb/rbb/zibb/archiv/20140312_1830/narren
DTSTAMP:20140406T215213
DESCRIPTION:Glitzer und Glamour, Gesellschaftskritik und der Welthit "I am what I am" - die Bar jeder Vernunft führt seit einer Woche das berühmte Musical auf und wird zum Käfig voller Narren. \n\n\n
SUMMARY:Narren in der Bar jeder Vernunft
END:VEVENT
END:VCALENDAR
