BEGIN:VCALENDAR
X-WR-TIMEZONE:Europe/Berlin
X-WR-CALNAME:rbb-Kalender
VERSION:2.0
METHOD:PUBLISH
CALSCALE:GREGORIAN
PRODID:rbb-CMS DAY
BEGIN:VEVENT
CLASS:PUBLIC
URL:http://www.rbb-online.de/content/rbb/rbb/zibb/archiv/20140312_1830/suppe.html
DTEND:20140312T192500
DTSTART:20140312T183000
UID:/content/rbb/rbb/zibb/archiv/20140312_1830/suppe
DTSTAMP:20140406T215129
DESCRIPTION:Strahlende Jungpioniere mit Halstüchern als Werbeträger auf Suppendosen – diese Idee hatte ein findiger Unternehmer und hat seine Produkte auch erfolgreich in einer großen Supermarktkette platzieren können. \n
SUMMARY:Streit um Pioniertücher auf Suppendosen
END:VEVENT
END:VCALENDAR
