BEGIN:VCALENDAR
X-WR-TIMEZONE:Europe/Berlin
X-WR-CALNAME:rbb-Kalender
VERSION:2.0
METHOD:PUBLISH
CALSCALE:GREGORIAN
PRODID:rbb-CMS DAY
BEGIN:VEVENT
CLASS:PUBLIC
URL:http://www.rbb-online.de/content/rbb/rbb/zibb/archiv/20140313_1830/alpaka.html
DTEND:20140313T192500
DTSTART:20140313T183000
UID:/content/rbb/rbb/zibb/archiv/20140313_1830/alpaka
DTSTAMP:20140406T215026
DESCRIPTION:Alpacas gelten als ruhig und friedlich.. Sie kommen aus den südamerikanischen Anden und werden vor allem  wegen ihrer wertvollen Wolle gezüchtet. Auch bei uns in Brandenburg. In Sonnenwalde haben wir eines der schönsten Exemplare besucht.\n\n\n\n\n
SUMMARY:Das schönste Alpaka
END:VEVENT
END:VCALENDAR
