BEGIN:VCALENDAR
X-WR-TIMEZONE:Europe/Berlin
X-WR-CALNAME:rbb-Kalender
VERSION:2.0
METHOD:PUBLISH
CALSCALE:GREGORIAN
PRODID:rbb-CMS DAY
BEGIN:VEVENT
CLASS:PUBLIC
URL:http://www.rbb-online.de/content/rbb/rbb/zibb/archiv/20140313_1830/meister.html
DTEND:20140313T192500
DTSTART:20140313T183000
UID:/content/rbb/rbb/zibb/archiv/20140313_1830/meister
DTSTAMP:20140406T215048
DESCRIPTION:Die großen Turnnationen der Welt treffen sich seit Donnerstag in der Cottbusser Lausitz-Arena zum 38. Turnier der Meister. Athletinnen und Athleten aus 40 Ländern der Welt kämpfen um Titel und Preisgelder.\n\n \n\n \n
SUMMARY:Stars beim Turnier der Meister 
END:VEVENT
END:VCALENDAR
