BEGIN:VCALENDAR
X-WR-TIMEZONE:Europe/Berlin
X-WR-CALNAME:rbb-Kalender
VERSION:2.0
METHOD:PUBLISH
CALSCALE:GREGORIAN
PRODID:rbb-CMS DAY
BEGIN:VEVENT
CLASS:PUBLIC
URL:http://www.rbb-online.de/content/rbb/rbb/zibb/archiv/20140317_1830/computerspiel.html
DTEND:20140317T192500
DTSTART:20140317T183000
UID:/content/rbb/rbb/zibb/archiv/20140317_1830/computerspiel
DTSTAMP:20140406T214340
DESCRIPTION:Die Computerspielserie StarCraft ist bereits seit Jahren Kult und hat viele Anhänger. Die besten Spieler treffen sich derzeit zu einem Wettbewerb, bei dem ihre Künste von Kameras aufgezeichnet werden und im Internet zu bewundern sind.\n\n\n\n\n
SUMMARY:zibb beim Computerspiel-Fernsehen
END:VEVENT
END:VCALENDAR
