BEGIN:VCALENDAR
X-WR-TIMEZONE:Europe/Berlin
X-WR-CALNAME:rbb-Kalender
VERSION:2.0
METHOD:PUBLISH
CALSCALE:GREGORIAN
PRODID:rbb-CMS DAY
BEGIN:VEVENT
CLASS:PUBLIC
URL:http://www.rbb-online.de/content/rbb/rbb/zibb/archiv/20140317_1830/schuhe-werfen.html
DTEND:20140317T192500
DTSTART:20140317T183000
UID:/content/rbb/rbb/zibb/archiv/20140317_1830/schuhe-werfen
DTSTAMP:20140406T214421
DESCRIPTION:Im Prenzlauer Stadtpark können Spaziergänger eine sonderbare Entdeckung machen. Alte Schuhe hängen dort in mehreren Metern Höhe zusammengeknotet über einer Peitschenlampe. Was steckt dahinter? zibb wollte es genauer wissen.\n
SUMMARY:Jugendkultur in der Uckermark
END:VEVENT
END:VCALENDAR
