BEGIN:VCALENDAR
X-WR-TIMEZONE:Europe/Berlin
X-WR-CALNAME:rbb-Kalender
VERSION:2.0
METHOD:PUBLISH
CALSCALE:GREGORIAN
PRODID:rbb-CMS DAY
BEGIN:VEVENT
CLASS:PUBLIC
URL:http://www.rbb-online.de/content/rbb/rbb/zibb/archiv/20140318_1830/fahrradwege.html
DTEND:20140318T192500
DTSTART:20140318T183000
UID:/content/rbb/rbb/zibb/archiv/20140318_1830/fahrradwege
DTSTAMP:20140406T224617
DESCRIPTION:Mehr als 15 Prozent aller Wege in Berlin werden heute schon mit dem Rad zurückgelegt, Tendenz steigend. Doch wie kann das Fahrradfahren in Berlin sicherer gemacht werden? Das geht nach Ansicht vieler Verkehrsexperten nur, wenn die Aufteilung der Verkehrsflächen sich verschiebt - weniger Platz für Autos, mehr für die Radfahrer.\n
SUMMARY:Mehr Fahrradwege - weniger Autos
END:VEVENT
END:VCALENDAR
