BEGIN:VCALENDAR
X-WR-TIMEZONE:Europe/Berlin
X-WR-CALNAME:rbb-Kalender
VERSION:2.0
METHOD:PUBLISH
CALSCALE:GREGORIAN
PRODID:rbb-CMS DAY
BEGIN:VEVENT
CLASS:PUBLIC
URL:http://www.rbb-online.de/content/rbb/rbb/zibb/archiv/20140318_1830/stallmuseum.html
DTEND:20140318T192500
DTSTART:20140318T183000
UID:/content/rbb/rbb/zibb/archiv/20140318_1830/stallmuseum
DTSTAMP:20140406T224642
DESCRIPTION:In ihrer uckermärkischen Scheune bewahrt Inge Mahn großformatige Kunstwerke auf. Neben diesem Stallmuseum, das sie betreibt, organisiert sie Ausstellungen in der Kirche, tauscht Gebrauchsgegenstände mit den Nachbarn und bringt mit geübter Hand moderne Kunst aufs Land.\n
SUMMARY:Stallmuseum in der Uckermark
END:VEVENT
END:VCALENDAR
