BEGIN:VCALENDAR
X-WR-TIMEZONE:Europe/Berlin
X-WR-CALNAME:rbb-Kalender
VERSION:2.0
METHOD:PUBLISH
CALSCALE:GREGORIAN
PRODID:rbb-CMS DAY
BEGIN:VEVENT
CLASS:PUBLIC
URL:http://www.rbb-online.de/content/rbb/rbb/zibb/archiv/20140318_1830/tiervermittlung.html
DTEND:20140318T192500
DTSTART:20140318T183000
UID:/content/rbb/rbb/zibb/archiv/20140318_1830/tiervermittlung
DTSTAMP:20140406T224545
DESCRIPTION:+++ Maja, 3 Monate alte Schäferhündin +++ Jacky, Pudel, 12 Jahre alt +++ Katze Söckchen, 7 Jahre alt +++ Kater Meister Propper, 4 Jahre +++\n
SUMMARY:Tiervermittlung
END:VEVENT
END:VCALENDAR
