BEGIN:VCALENDAR
X-WR-TIMEZONE:Europe/Berlin
X-WR-CALNAME:rbb-Kalender
VERSION:2.0
METHOD:PUBLISH
CALSCALE:GREGORIAN
PRODID:rbb-CMS DAY
BEGIN:VEVENT
CLASS:PUBLIC
URL:http://www.rbb-online.de/content/rbb/rbb/zibb/archiv/20140319_1830/bahnhofstrasse-koepenick.html
DTEND:20140319T192500
DTSTART:20140319T183000
UID:/content/rbb/rbb/zibb/archiv/20140319_1830/bahnhofstrasse-koepenick
DTSTAMP:20140406T214654
DESCRIPTION:In unserer beliebten Serie "Bahnhofstraßen" ist zibb heute in Köpenick unterwegs.\n\n\n
SUMMARY:Bahnhofstraße Köpenick
END:VEVENT
END:VCALENDAR
