BEGIN:VCALENDAR
X-WR-TIMEZONE:Europe/Berlin
X-WR-CALNAME:rbb-Kalender
VERSION:2.0
METHOD:PUBLISH
CALSCALE:GREGORIAN
PRODID:rbb-CMS DAY
BEGIN:VEVENT
CLASS:PUBLIC
URL:http://www.rbb-online.de/content/rbb/rbb/zibb/archiv/20140319_1830/zirkus-des-horrors.html
DTEND:20140319T192500
DTSTART:20140319T183000
UID:/content/rbb/rbb/zibb/archiv/20140319_1830/zirkus-des-horrors
DTSTAMP:20140406T214646
DESCRIPTION:Auf Feuerrädern durch die Lüfte laufen, Handstandakrobatik und schicke Tänze - das scheinbar typische Zirkuksprogramm kommt ab diesem Mittwoch in fürchterlich fiesem Gewand nach Berlin: Der Zirkus des Horrors feiert Premiere!\n
SUMMARY:Zirkus des Horrors
END:VEVENT
END:VCALENDAR
