BEGIN:VCALENDAR
X-WR-TIMEZONE:Europe/Berlin
X-WR-CALNAME:rbb-Kalender
VERSION:2.0
METHOD:PUBLISH
CALSCALE:GREGORIAN
PRODID:rbb-CMS DAY
BEGIN:VEVENT
CLASS:PUBLIC
URL:http://www.rbb-online.de/content/rbb/rbb/zibb/archiv/20140321_1830/der-naechtliche-knall-berlin.html
DTEND:20140321T192500
DTSTART:20140321T183000
UID:/content/rbb/rbb/zibb/archiv/20140321_1830/der-naechtliche-knall-berlin
DTSTAMP:20140406T214547
DESCRIPTION:Der Chef des Restaurants "Oxymoron" hat keinen Knall - ihm reicht es nur, mit den nächtlichen Lärm-Attacken.\n\n\n
SUMMARY: Das nächtliche Knall-Rätsel in Berlin
END:VEVENT
END:VCALENDAR
