BEGIN:VCALENDAR
X-WR-TIMEZONE:Europe/Berlin
X-WR-CALNAME:rbb-Kalender
VERSION:2.0
METHOD:PUBLISH
CALSCALE:GREGORIAN
PRODID:rbb-CMS DAY
BEGIN:VEVENT
CLASS:PUBLIC
URL:http://www.rbb-online.de/content/rbb/rbb/zibb/archiv/20140321_1830/die-neue-show-der-flying-steps.html
DTEND:20140321T192500
DTSTART:20140321T183000
UID:/content/rbb/rbb/zibb/archiv/20140321_1830/die-neue-show-der-flying-steps
DTSTAMP:20140406T214521
DESCRIPTION:Breakdance, Illusionen, spektakuläre Lichteffekte - die inzwischen weltbekannte Berliner Breakdance-Gruppe Flying Steps hat eine neue Show auf die Bühne gebracht.\n\n\n
SUMMARY:Die neue Show der Flying Steps
END:VEVENT
END:VCALENDAR
