BEGIN:VCALENDAR
X-WR-TIMEZONE:Europe/Berlin
X-WR-CALNAME:rbb-Kalender
VERSION:2.0
METHOD:PUBLISH
CALSCALE:GREGORIAN
PRODID:rbb-CMS DAY
BEGIN:VEVENT
CLASS:PUBLIC
URL:http://www.rbb-online.de/content/rbb/rbb/zibb/archiv/20140321_1830/es-wird-eng-fuer-energie-cottbus.html
DTEND:20140321T192500
DTSTART:20140321T183000
UID:/content/rbb/rbb/zibb/archiv/20140321_1830/es-wird-eng-fuer-energie-cottbus
DTSTAMP:20140406T214537
DESCRIPTION:Am Sonntag gibt es das Abstiegsduell zwischen drittletztem und letztem Tabellenplatz. Oder anders gesagt: Bielefeld gegen Cottbus.\n\n\n
SUMMARY:Es wird eng für Energie Cottbus
END:VEVENT
END:VCALENDAR
