BEGIN:VCALENDAR
X-WR-TIMEZONE:Europe/Berlin
X-WR-CALNAME:rbb-Kalender
VERSION:2.0
METHOD:PUBLISH
CALSCALE:GREGORIAN
PRODID:rbb-CMS DAY
BEGIN:VEVENT
CLASS:PUBLIC
URL:http://www.rbb-online.de/content/rbb/rbb/zibb/archiv/20140324_1830/Schleppkurven-Streit.html
DTEND:20140324T192500
DTSTART:20140324T183000
UID:/content/rbb/rbb/zibb/archiv/20140324_1830/Schleppkurven-Streit
DTSTAMP:20140406T224153
DESCRIPTION:In Geltow ist ein Streit zwischen der Bürgerinitiative Geltow und dem Unternehmer Jens Bahnemann entfacht. Grund dafür ist eine Schleppkurve, die an der Zufahrt von Bahnemanns Recyclingfirma liegt und stark frequentiert durch LKW befahren wird. Die Bürgerinitiative möchte dies nun verhindern.\n\n\n
SUMMARY:Streit um Firmenzufahrt in Geltow
END:VEVENT
END:VCALENDAR
