BEGIN:VCALENDAR
X-WR-TIMEZONE:Europe/Berlin
X-WR-CALNAME:rbb-Kalender
VERSION:2.0
METHOD:PUBLISH
CALSCALE:GREGORIAN
PRODID:rbb-CMS DAY
BEGIN:VEVENT
CLASS:PUBLIC
URL:http://www.rbb-online.de/content/rbb/rbb/zibb/archiv/20140324_1830/harlem-globetrotters.html
DTEND:20140324T192500
DTSTART:20140324T183000
UID:/content/rbb/rbb/zibb/archiv/20140324_1830/harlem-globetrotters
DTSTAMP:20140406T224235
DESCRIPTION:Sport als Unterhaltungsshow: Wenn die Harlem Globetrotters die Halle stürmen, steht trotz umwerfender Athletik immer auch der Spaß im Vordergrund. Von der legendären Sport-Show in der Max-Schmeling-Halle berichten wir live.\n\n\n
SUMMARY:Harlem Globetrotters in der Max-Schmeling-Halle
END:VEVENT
END:VCALENDAR
