BEGIN:VCALENDAR
X-WR-TIMEZONE:Europe/Berlin
X-WR-CALNAME:rbb-Kalender
VERSION:2.0
METHOD:PUBLISH
CALSCALE:GREGORIAN
PRODID:rbb-CMS DAY
BEGIN:VEVENT
CLASS:PUBLIC
URL:http://www.rbb-online.de/content/rbb/rbb/zibb/archiv/20140324_1830/kronleuchter.html
DTEND:20140324T192500
DTSTART:20140324T183000
UID:/content/rbb/rbb/zibb/archiv/20140324_1830/kronleuchter
DTSTAMP:20140406T224142
DESCRIPTION:200 Quadratmeter funkelnde Verkaufsfläche erstreckt sich im Kreuzberger Light Deluxe. Kronleuchter und Lüster aus jeder denkbaren Leuchterepoche werden von Geschäftsführer Erkan Tahta angeboten. Wer Kronleuchter mag, der wird diesen Lampenladen lieben.\n
SUMMARY:Kronleuchter in Hülle und Fülle
END:VEVENT
END:VCALENDAR
