BEGIN:VCALENDAR
X-WR-TIMEZONE:Europe/Berlin
X-WR-CALNAME:rbb-Kalender
VERSION:2.0
METHOD:PUBLISH
CALSCALE:GREGORIAN
PRODID:rbb-CMS DAY
BEGIN:VEVENT
CLASS:PUBLIC
URL:http://www.rbb-online.de/content/rbb/rbb/zibb/archiv/20140324_1830/weltfreiheitshauptstadt.html
DTEND:20140324T192500
DTSTART:20140324T183000
UID:/content/rbb/rbb/zibb/archiv/20140324_1830/weltfreiheitshauptstadt
DTSTAMP:20140406T224159
DESCRIPTION:Berlin trägt nun den neuen Titel "Erste Weltfreiheitshauptstadt". Guerillakünstler hatten in der Nacht zu Sonnabend Ortsschilder mit der Zusatzbezeichnung versehen und damit auf sich aufmerksam gemacht. Sie wünschen sich mehr Freiheit für Kunst und Kreativität.\n\n\n
SUMMARY:Berlin wird Erste Weltfreiheitshauptstadt
END:VEVENT
END:VCALENDAR
