BEGIN:VCALENDAR
X-WR-TIMEZONE:Europe/Berlin
X-WR-CALNAME:rbb-Kalender
VERSION:2.0
METHOD:PUBLISH
CALSCALE:GREGORIAN
PRODID:rbb-CMS DAY
BEGIN:VEVENT
CLASS:PUBLIC
URL:http://www.rbb-online.de/content/rbb/rbb/zibb/archiv/20140325_1830/Myfooza-kein-verein-ohne-sticker.html
DTEND:20140325T192500
DTSTART:20140325T183000
UID:/content/rbb/rbb/zibb/archiv/20140325_1830/Myfooza-kein-verein-ohne-sticker
DTSTAMP:20140406T214906
DESCRIPTION:Fußball-Sammelalben gibt es eigentlich nur für die großen und sehr erfolgreichen Vereine und ihre Profi-Spieler. Doch die beiden Jungunternehmer Michael Janek (29) und Aike Fiedler (22) hatten eine Idee: Sie produzieren individuelle Sammelalben und Sticker auch für Amateurvereine.\n\n\n
SUMMARY:MyFooza – Kein Verein mehr ohne Sticker
END:VEVENT
END:VCALENDAR
