BEGIN:VCALENDAR
X-WR-TIMEZONE:Europe/Berlin
X-WR-CALNAME:rbb-Kalender
VERSION:2.0
METHOD:PUBLISH
CALSCALE:GREGORIAN
PRODID:rbb-CMS DAY
BEGIN:VEVENT
CLASS:PUBLIC
URL:http://www.rbb-online.de/content/rbb/rbb/zibb/archiv/20140325_1830/Schwalbenromantik-altzeschendorf.html
DTEND:20140325T192500
DTSTART:20140325T183000
UID:/content/rbb/rbb/zibb/archiv/20140325_1830/Schwalbenromantik-altzeschendorf
DTSTAMP:20140406T214959
DESCRIPTION:Böse Zungen nannten eine Schwalbe früher "Nonnenhocker" – so uncool sah das DDR-Moped mit seinen breiten Trittbrettern und dem Windschutz für die Knie aus. Doch der ehemalige Kfz-Meister Detlef Pasenau aus Alt-Zeschdorf liebt Ost-Zweiräder aller Art.\n\n\n
SUMMARY:Schwalbenromantik in Alt-Zeschdorf    
END:VEVENT
END:VCALENDAR
