BEGIN:VCALENDAR
X-WR-TIMEZONE:Europe/Berlin
X-WR-CALNAME:rbb-Kalender
VERSION:2.0
METHOD:PUBLISH
CALSCALE:GREGORIAN
PRODID:rbb-CMS DAY
BEGIN:VEVENT
CLASS:PUBLIC
URL:http://www.rbb-online.de/content/rbb/rbb/zibb/archiv/20140325_1830/shen_yun.html
DTEND:20140325T192500
DTSTART:20140325T183000
UID:/content/rbb/rbb/zibb/archiv/20140325_1830/shen_yun
DTSTAMP:20140406T214923
DESCRIPTION:Shen Yun bedeutet auf Chinesisch "Göttliche Schönheit" und ist eine Tanzgala aus New York, die klassischen chinesischen Tanz präsentiert. Die Mitglieder des Ensembles sind chinesische Exilanten und Praktizierende der Falun Gong – einer neuen religiösen Bewegung, die 1999 in China verboten wurde.\n\n\n
SUMMARY:Shen Yun - Chinesisches Tanztheater aus New York
END:VEVENT
END:VCALENDAR
