BEGIN:VCALENDAR
X-WR-TIMEZONE:Europe/Berlin
X-WR-CALNAME:rbb-Kalender
VERSION:2.0
METHOD:PUBLISH
CALSCALE:GREGORIAN
PRODID:rbb-CMS DAY
BEGIN:VEVENT
CLASS:PUBLIC
URL:http://www.rbb-online.de/content/rbb/rbb/zibb/archiv/20140326_1830/Bahnhofstrae_Berkenbrueck.html
DTEND:20140326T192500
DTSTART:20140326T183000
UID:/content/rbb/rbb/zibb/archiv/20140326_1830/Bahnhofstrae_Berkenbrueck
DTSTAMP:20140406T222241
DESCRIPTION:Den Bahnhof von Berkenbrück an der Strecke Berlin - Warschau gibt es schon seit 1859. Familie Hoffmann aus Hessen hat ihn vor einigen Jahren gekauft und zu einer Pension umgebaut. Wer Eisenbahnen und Schienen liebt, kann nun selbst vom stillen Örtchen aus die vorbeifahrenden Züge beobachten.\n\n\n
SUMMARY:Bahnhofstraße Berkenbrück
END:VEVENT
END:VCALENDAR
