BEGIN:VCALENDAR
X-WR-TIMEZONE:Europe/Berlin
X-WR-CALNAME:rbb-Kalender
VERSION:2.0
METHOD:PUBLISH
CALSCALE:GREGORIAN
PRODID:rbb-CMS DAY
BEGIN:VEVENT
CLASS:PUBLIC
URL:http://www.rbb-online.de/content/rbb/rbb/zibb/archiv/20140326_1830/fussball_wm_schulen.html
DTEND:20140326T192500
DTSTART:20140326T183000
UID:/content/rbb/rbb/zibb/archiv/20140326_1830/fussball_wm_schulen
DTSTAMP:20140406T222128
DESCRIPTION:32 Schulmannschaften aus allen Bundesländern werden ab Mittwoch in der "Herbert Tschäpe" Schule in Dahlewitz die Fußball-WM der Schulen nach dem originalen WM-Spielplan nachspielen. Jede Schule vertritt eine Nationalmannschaft und spielt in deren Trikots, sodass richtiges WM-Feeling aufkommen kann.\n\n\n
SUMMARY:Fußball-WM der Schulen
END:VEVENT
END:VCALENDAR
