BEGIN:VCALENDAR
X-WR-TIMEZONE:Europe/Berlin
X-WR-CALNAME:rbb-Kalender
VERSION:2.0
METHOD:PUBLISH
CALSCALE:GREGORIAN
PRODID:rbb-CMS DAY
BEGIN:VEVENT
CLASS:PUBLIC
URL:http://www.rbb-online.de/content/rbb/rbb/zibb/archiv/20140326_1830/hilfe_bei_herzschwaeche.html
DTEND:20140326T192500
DTSTART:20140326T183000
UID:/content/rbb/rbb/zibb/archiv/20140326_1830/hilfe_bei_herzschwaeche
DTSTAMP:20140406T222210
DESCRIPTION:Allein in Deutschland leiden laut Schätzungen zwei bis drei Millionen Menschen an einer Herzschwäche. Dabei ist sie keine eigenständige Erkrankung, sondern die Folge von Bluthochdruck, Herzinfarkt und anderen Herzerkrankungen.\n
SUMMARY:Wenn die Pumpe versagt – Hilfe bei Herzschwäche
END:VEVENT
END:VCALENDAR
