BEGIN:VCALENDAR
X-WR-TIMEZONE:Europe/Berlin
X-WR-CALNAME:rbb-Kalender
VERSION:2.0
METHOD:PUBLISH
CALSCALE:GREGORIAN
PRODID:rbb-CMS DAY
BEGIN:VEVENT
CLASS:PUBLIC
URL:http://www.rbb-online.de/content/rbb/rbb/zibb/archiv/20140326_1830/promille_am_steuer.html
DTEND:20140326T192500
DTSTART:20140326T183000
UID:/content/rbb/rbb/zibb/archiv/20140326_1830/promille_am_steuer
DTSTAMP:20140406T222254
DESCRIPTION:Die Grünen im Bundestag fordern eine Null-Promille-Grenze für alle Autofahrer in Deutschland. Sie wollen noch vor der Sommerpause einen Antrag für eine Gesetzesänderung in den Bundestag einbringen. Unterstützung erhalten sie dabei von Verkehrsexperten der Linkspartei und der SPD, nicht jedoch von Bundesverkehrsminister Alexander Dobrindt (CSU).\n\n\n
SUMMARY:0,0 Promille am Steuer?  
END:VEVENT
END:VCALENDAR
