BEGIN:VCALENDAR
X-WR-TIMEZONE:Europe/Berlin
X-WR-CALNAME:rbb-Kalender
VERSION:2.0
METHOD:PUBLISH
CALSCALE:GREGORIAN
PRODID:rbb-CMS DAY
BEGIN:VEVENT
CLASS:PUBLIC
URL:http://www.rbb-online.de/content/rbb/rbb/zibb/archiv/20140326_1830/schwester_margret_schwalbe.html
DTEND:20140326T192500
DTSTART:20140326T183000
UID:/content/rbb/rbb/zibb/archiv/20140326_1830/schwester_margret_schwalbe
DTSTAMP:20140406T222229
DESCRIPTION:Bis zur Wende war Margret Flemming Gemeindeschwester im Oderbruch. Erst fuhr die heute 70-Jährige mit dem Fahrrad zu ihren Patienten, dann mit der Schwalbe. Schwester Margret hieß sie bei ihren Patienten ganz einfach, doch einige nannten sie – in Anlehnung an die bekannte Fernsehschwester – auch "Schwester Agnes".\n\n\n
SUMMARY:Schwalbengeschichten: Schwester Margret
END:VEVENT
END:VCALENDAR
