BEGIN:VCALENDAR
X-WR-TIMEZONE:Europe/Berlin
X-WR-CALNAME:rbb-Kalender
VERSION:2.0
METHOD:PUBLISH
CALSCALE:GREGORIAN
PRODID:rbb-CMS DAY
BEGIN:VEVENT
CLASS:PUBLIC
URL:http://www.rbb-online.de/content/rbb/rbb/zibb/archiv/20140327_1830/verleihung_echo.html
DTEND:20140327T192500
DTSTART:20140327T183000
UID:/content/rbb/rbb/zibb/archiv/20140327_1830/verleihung_echo
DTSTAMP:20140406T214233
DESCRIPTION:Zum 23. Mal ehrt die Deutsche Phono-Akademie heute herausragende Leistungen mit dem Musikpreis "Echo". Macklemore, Depeche Mode  - die Nominiertenliste ist wieder lang und bunt beim Pop-Echo. Helene Fischer moderiert - und Yello erhalten den Preis für ihr Lebenswerk.\n\n\n
SUMMARY:Verleihung des Echo-Musikpreises
END:VEVENT
END:VCALENDAR
