BEGIN:VCALENDAR
X-WR-TIMEZONE:Europe/Berlin
X-WR-CALNAME:rbb-Kalender
VERSION:2.0
METHOD:PUBLISH
CALSCALE:GREGORIAN
PRODID:rbb-CMS DAY
BEGIN:VEVENT
CLASS:PUBLIC
URL:http://www.rbb-online.de/content/rbb/rbb/zibb/archiv/20140327_1830/verstuemmelte_graureiher_gefunden.html
DTEND:20140327T192500
DTSTART:20140327T183000
UID:/content/rbb/rbb/zibb/archiv/20140327_1830/verstuemmelte_graureiher_gefunden
DTSTAMP:20140406T214252
DESCRIPTION:In Blankensee (Kreis Teltow-Fläming) hat ein Ornitologe zwei Graureiher mit verstümmelten Schnäbeln entdeckt. Die unter Naturschutz stehenden Vögel sind dadurch nahezu lebensunfähig geworden, weil sie sich kaum noch wie gewohnt von Fischen ernähren können. Noch ist nicht klar, woher die Verletzungen der Tiere stammen.\n
SUMMARY:Verstümmelte Graureiher gefunden
END:VEVENT
END:VCALENDAR
