BEGIN:VCALENDAR
X-WR-TIMEZONE:Europe/Berlin
X-WR-CALNAME:rbb-Kalender
VERSION:2.0
METHOD:PUBLISH
CALSCALE:GREGORIAN
PRODID:rbb-CMS DAY
BEGIN:VEVENT
LOCATION:zuhause in berlin & brandenburg
CLASS:PUBLIC
URL:http://www.rbb-online.de/content/rbb/rbb/zibb/archiv/20140328_1830.html
DTEND:20140328T192500
DTSTART:20140328T183000
UID:/content/rbb/rbb/zibb/archiv/20140328_1830
DTSTAMP:20140404T192710
DESCRIPTION:+++ Straßenmusiker protestieren +++ Die Preisträger auf der Echo-Party +++ Service: Gesundes Gemüse +++ Die 30 tollsten Brandenburger Feste +++ Piratenschiff     legt in Berlin an +++ Mini-Tour nach Jüterbog +++ Schwalbengeschichten +++ Gast: The Baseballs +++ “Massachusetts” - Das Bee Gees Musical +++ Dit war dit +++ Moderation: Harald Pignatelli und Madeleine Wehle +++\n
SUMMARY:zibb 28.03.2014 18:30
END:VEVENT
END:VCALENDAR
