BEGIN:VCALENDAR
X-WR-TIMEZONE:Europe/Berlin
X-WR-CALNAME:rbb-Kalender
VERSION:2.0
METHOD:PUBLISH
CALSCALE:GREGORIAN
PRODID:rbb-CMS DAY
BEGIN:VEVENT
CLASS:PUBLIC
URL:http://www.rbb-online.de/content/rbb/rbb/zibb/archiv/20140328_1830/brandenburger_feste.html
DTEND:20140328T192500
DTSTART:20140328T183000
UID:/content/rbb/rbb/zibb/archiv/20140328_1830/brandenburger_feste
DTSTAMP:20140405T013203
DESCRIPTION:Man muss die Feste feiern, wie sie fallen. Das lassen sich die Brandenburger nicht zweimal sagen. Egal ob Ritterfest oder Rockfestival, Flotten- oder Hengstparade, Storchen-, Trachten- oder Sängerfest - an Gelegenheiten fehlt es nicht, und bei jährlich 10.000 Events kommt wohl jeder auf seine Kosten. \n\n\n
SUMMARY:Die 30 tollsten Brandenburger Feste
END:VEVENT
END:VCALENDAR
