BEGIN:VCALENDAR
X-WR-TIMEZONE:Europe/Berlin
X-WR-CALNAME:rbb-Kalender
VERSION:2.0
METHOD:PUBLISH
CALSCALE:GREGORIAN
PRODID:rbb-CMS DAY
BEGIN:VEVENT
CLASS:PUBLIC
URL:http://www.rbb-online.de/content/rbb/rbb/zibb/archiv/20140328_1830/strassenmusiker_protestieren.html
DTEND:20140328T192500
DTSTART:20140328T183000
UID:/content/rbb/rbb/zibb/archiv/20140328_1830/strassenmusiker_protestieren
DTSTAMP:20140405T012306
DESCRIPTION:Wir alle kennen sie - Straßenmusiker in Berlin. Viele finden sie unterhaltsam, bleiben stehen und freuen sich an den jungen Talenten. Doch es gibt auch Berliner und Touristen, die ihre Ruhe haben wollen - deshalb gibt es Vorschriften, die es einzuhalten gilt. \n\n\n
SUMMARY:Straßenmusiker protestieren
END:VEVENT
END:VCALENDAR
