BEGIN:VCALENDAR
X-WR-TIMEZONE:Europe/Berlin
X-WR-CALNAME:rbb-Kalender
VERSION:2.0
METHOD:PUBLISH
CALSCALE:GREGORIAN
PRODID:rbb-CMS DAY
BEGIN:VEVENT
CLASS:PUBLIC
URL:http://www.rbb-online.de/content/rbb/rbb/zibb/archiv/20140331_1830/die-brunnensaison-beginnt.html
DTEND:20140331T192500
DTSTART:20140331T183000
UID:/content/rbb/rbb/zibb/archiv/20140331_1830/die-brunnensaison-beginnt
DTSTAMP:20140405T014235
DESCRIPTION:Im April beginnt wieder die Brunnensaison in der Hauptstadt. Die öffentlichen Brunnen werden nach langem Winterschlaf wieder angeschaltet und laden Spaziergänger zum Verweilen ein.\n\n\n
SUMMARY:Die Brunnensaison beginnt
END:VEVENT
END:VCALENDAR
