BEGIN:VCALENDAR
X-WR-TIMEZONE:Europe/Berlin
X-WR-CALNAME:rbb-Kalender
VERSION:2.0
METHOD:PUBLISH
CALSCALE:GREGORIAN
PRODID:rbb-CMS DAY
BEGIN:VEVENT
LOCATION:zuhause in berlin & brandenburg
CLASS:PUBLIC
URL:http://www.rbb-online.de/content/rbb/rbb/zibb/archiv/20140401_1830.html
DTEND:20140401T192500
DTSTART:20140401T183000
UID:/content/rbb/rbb/zibb/archiv/20140401_1830
DTSTAMP:20140404T190746
DESCRIPTION:Versteigerung einer russischen Raumkapsel +++ Tomatenkiller entdeckt +++ Amtsantritt von Dr. Andreas Knieriem +++ Service: Marke oder Drogerieartikel +++ Die Azubi-Station +++ Autotest: DACIA Logan +++ Gäste: Jakob Lass und Lana Cooper +++ Schul-Musical "Hairspray" +++ Der Eisenmann\n\n\n
SUMMARY:zibb 01.04.2014 18:30
END:VEVENT
END:VCALENDAR
