BEGIN:VCALENDAR
X-WR-TIMEZONE:Europe/Berlin
X-WR-CALNAME:rbb-Kalender
VERSION:2.0
METHOD:PUBLISH
CALSCALE:GREGORIAN
PRODID:rbb-CMS DAY
BEGIN:VEVENT
CLASS:PUBLIC
URL:http://www.rbb-online.de/content/rbb/rbb/zibb/archiv/20140401_1830/der-eisenmann.html
DTEND:20140401T192500
DTSTART:20140401T183000
UID:/content/rbb/rbb/zibb/archiv/20140401_1830/der-eisenmann
DTSTAMP:20140405T012153
DESCRIPTION:Er war ein wirklicher Weltstar. Siegmund Breitbart, der außergewöhnliche Kraftmensch. Ein Kassenschlager in Zirkusarenen und Revue Theatern. \n
SUMMARY:Der Eisenmann
END:VEVENT
END:VCALENDAR
