BEGIN:VCALENDAR
X-WR-TIMEZONE:Europe/Berlin
X-WR-CALNAME:rbb-Kalender
VERSION:2.0
METHOD:PUBLISH
CALSCALE:GREGORIAN
PRODID:rbb-CMS DAY
BEGIN:VEVENT
CLASS:PUBLIC
URL:http://www.rbb-online.de/content/rbb/rbb/zibb/archiv/20140401_1830/jakob-lass-lana-cooper.html
DTEND:20140401T192500
DTSTART:20140401T183000
UID:/content/rbb/rbb/zibb/archiv/20140401_1830/jakob-lass-lana-cooper
DTSTAMP:20140405T011738
DESCRIPTION:Rotzig, ehrlich, lustig, laut: mit "LOVE STEAKS" gibt das Nachwuchstalent Jakob Lass sein Regiedebüt und gewinnt damit gleich in vier Kategorien den Förderpreis "Neues Deutsches Kino".\n\n\n
SUMMARY:Jakob Lass und Lana Cooper
END:VEVENT
END:VCALENDAR
