BEGIN:VCALENDAR
X-WR-TIMEZONE:Europe/Berlin
X-WR-CALNAME:rbb-Kalender
VERSION:2.0
METHOD:PUBLISH
CALSCALE:GREGORIAN
PRODID:rbb-CMS DAY
BEGIN:VEVENT
CLASS:PUBLIC
URL:http://www.rbb-online.de/content/rbb/rbb/zibb/archiv/20140401_1830/tomatenkiller-entdeckt.html
DTEND:20140401T192500
DTSTART:20140401T183000
UID:/content/rbb/rbb/zibb/archiv/20140401_1830/tomatenkiller-entdeckt
DTSTAMP:20140405T013240
DESCRIPTION:Normalerweise neigen Wissenschaftler nicht zu Superlativen. Doch was Anfang dieser Woche aus Japan vom Weltklimarat zu hören ist, klingt so bedrohlich wie noch nie. \n
SUMMARY:Tomatenkiller entdeckt!
END:VEVENT
END:VCALENDAR
