BEGIN:VCALENDAR
X-WR-TIMEZONE:Europe/Berlin
X-WR-CALNAME:rbb-Kalender
VERSION:2.0
METHOD:PUBLISH
CALSCALE:GREGORIAN
PRODID:rbb-CMS DAY
BEGIN:VEVENT
CLASS:PUBLIC
URL:http://www.rbb-online.de/content/rbb/rbb/zibb/archiv/20140401_1830/versteigerung-einer-russischen-raumkapsel.html
DTEND:20140401T192500
DTSTART:20140401T183000
UID:/content/rbb/rbb/zibb/archiv/20140401_1830/versteigerung-einer-russischen-raumkapsel
DTSTAMP:20140405T012457
DESCRIPTION:Jetzt kommt eine russische Raumkapsel als Kunstwerk unter den Hammer. Tatsächlich flog die Raumkapsel 1977 und 1978 ins Weltall.\n\n\n
SUMMARY:Versteigerung einer russischen Raumkapsel
END:VEVENT
END:VCALENDAR
