BEGIN:VCALENDAR
X-WR-TIMEZONE:Europe/Berlin
X-WR-CALNAME:rbb-Kalender
VERSION:2.0
METHOD:PUBLISH
CALSCALE:GREGORIAN
PRODID:rbb-CMS DAY
BEGIN:VEVENT
LOCATION:zuhause in berlin & brandenburg
CLASS:PUBLIC
URL:http://www.rbb-online.de/content/rbb/rbb/zibb/archiv/20140402_1830.html
DTEND:20140402T192500
DTSTART:20140402T183000
UID:/content/rbb/rbb/zibb/archiv/20140402_1830
DTSTAMP:20140404T191225
DESCRIPTION:Kraniche am Boden +++ Tomatenkiller entlarvt +++ Service: Ausländische Pflegekräfte +++ Minigarten rund um die Stadtbäume +++ LOVER +++ Die Bahnhofsstraße Chorin +++ Gast: Alexander Scheer +++ Jörg Pochert ist Groundhopper\n\n\n
SUMMARY:zibb 02.04.2014 18:30
END:VEVENT
END:VCALENDAR
