BEGIN:VCALENDAR
X-WR-TIMEZONE:Europe/Berlin
X-WR-CALNAME:rbb-Kalender
VERSION:2.0
METHOD:PUBLISH
CALSCALE:GREGORIAN
PRODID:rbb-CMS DAY
BEGIN:VEVENT
CLASS:PUBLIC
URL:http://www.rbb-online.de/content/rbb/rbb/zibb/archiv/20140403_1830/pflege_fuer_migranten.html
DTEND:20140403T192500
DTSTART:20140403T183000
UID:/content/rbb/rbb/zibb/archiv/20140403_1830/pflege_fuer_migranten
DTSTAMP:20140405T013307
DESCRIPTION:Rund 40.000 Migranten über 65 Jahren leben in Berlin, im Jahr 2020 werden es über 57.000 sein. Sie zu pflegen, erfordert besondere Kenntnisse. Denn die deutschen Sprachkenntnisse gehen bei Demenzkranken mit Migrationshintergrund oftmals als erstes verloren. \n\n\n
SUMMARY:Pflege für Migranten
END:VEVENT
END:VCALENDAR
