BEGIN:VCALENDAR
X-WR-TIMEZONE:Europe/Berlin
X-WR-CALNAME:rbb-Kalender
VERSION:2.0
METHOD:PUBLISH
CALSCALE:GREGORIAN
PRODID:rbb-CMS DAY
BEGIN:VEVENT
CLASS:PUBLIC
URL:http://www.rbb-online.de/content/rbb/rbb/zibb/archiv/20140404_1830/Fernost_von_berlin_nach_tokio.html
DTEND:20140404T192500
DTSTART:20140404T183000
UID:/content/rbb/rbb/zibb/archiv/20140404_1830/Fernost_von_berlin_nach_tokio
DTSTAMP:20140406T230310
DESCRIPTION:Der rbb war für Sie unterwegs auf dem Asian Highway: fast 200 Drehtage, 27.000 Straßenkilometer und unzählige Begegnungen und Geschichten am Wegesrand von Berlin bis nach Tokio. Vom 7. bis 11. April, immer um 20:15 Uhr und 21:00 Uhr, können Sie die Etappen des spannenden Roadmovies im rbb Fernsehen verfolgen.\n
SUMMARY:Fernost: Von Berlin nach Tokio
END:VEVENT
END:VCALENDAR
